BEGIN:VCALENDAR
VERSION:2.0
PRODID:-//wp-events-plugin.com//7.2.3.1//EN
TZID:Europe/Berlin
X-WR-TIMEZONE:Europe/Berlin
BEGIN:VEVENT
UID:174@evjugila.de
DTSTART;TZID=Europe/Berlin:20251025T170000
DTEND;TZID=Europe/Berlin:20251025T183000
DTSTAMP:20251013T114038Z
URL:https://evjugila.de/events/zum-davonlaufen-ein-familiengottesdienst-zu
 m-bleiben/
SUMMARY:Zum Davonlaufen – ein Familiengottesdienst zum Bleiben
DESCRIPTION:am Samstag\, 25. Oktober\, um 17 Uhr laden wir euch mit euren K
 indern herzlich in die Evangelische Stadtkirche Laubach ein.\nGemeinsam er
 leben wir die spannende Geschichte von Jona und dem großen Fisch – mit 
 kreativen Stationen\, einer Meditation im „Fischbauch“\,\neiner Eiswas
 ser-Challenge am Taufbecken und einem gemeinsamen Abendbrot zum Abschluss.
 \n\nEin Gottesdienst für Klein und Groß\, voller Abenteuer\, Musik und G
 emeinschaft. Kommt vorbei – wir freuen uns auf euch! ✨\n\nVeranstalter
 : Evangelische Kirchengemeinde Laubach im Evangelischen Nachbarschaftsraum
  Laubacher Land
ATTACH;FMTTYPE=image/jpeg:https://evjugila.de/wp-content/uploads/2025/10/F
 amiliengottesdienst-Laubach.jpg
CATEGORIES:Für und mit Kindern,Kindergottesdienst,Nachbarschaftsraum
 Laubacher Land
LOCATION:Evangelische Kirche Laubach\, Kirchplatz 14\, Laubach\, Hessen\, 3
 5345\, Rund um Laubach\, Deutschland
X-APPLE-STRUCTURED-LOCATION;VALUE=URI;X-ADDRESS=Kirchplatz 14\, Laubach\, H
 essen\, 35345\, Rund um Laubach\, Deutschland;X-APPLE-RADIUS=100;X-TITLE=E
 vangelische Kirche Laubach:geo:0,0
END:VEVENT
BEGIN:VTIMEZONE
TZID:Europe/Berlin
X-LIC-LOCATION:Europe/Berlin
BEGIN:DAYLIGHT
DTSTART:20250330T030000
TZOFFSETFROM:+0100
TZOFFSETTO:+0200
TZNAME:CEST
END:DAYLIGHT
END:VTIMEZONE
END:VCALENDAR