BEGIN:VCALENDAR
VERSION:2.0
PRODID:-//wp-events-plugin.com//7.2.3.1//EN
TZID:Europe/Berlin
X-WR-TIMEZONE:Europe/Berlin
BEGIN:VEVENT
UID:142@evjugila.de
DTSTART;TZID=Europe/Berlin:20250904T180000
DTEND;TZID=Europe/Berlin:20250904T220000
DTSTAMP:20250828T133401Z
URL:https://evjugila.de/events/zeit-zum-spielen-auf-dem-feierabendmarkt-ni
 eder-ohmen/
SUMMARY:Zeit zum Spielen auf dem Feierabendmarkt Nieder-Ohmen
DESCRIPTION:Am Donnerstag\, 4. September 2025\, lädt die Evangelische Juge
 nd im Dekanat Gießener Land zum Spieleabend auf dem Feierabendmarkt in Ni
 eder-Ohmen ein.\nAb 18:00 Uhr findet ihr uns in der Untergasse 3\, 35325 M
 ücke\, wo wir mit einem bunten Spieleangebot vor Ort sind.Ob bekannte Kla
 ssiker oder spannende Neuheiten – in unserer Spielesammlung ist für all
 e etwas dabei.\nKommen Sie vorbei\, stöbern Sie durch die Spiele und verb
 ringen Sie einen geselligen Abend in entspannter Marktatmosphäre.\nVerans
 talter: Fairkaufsladen Nieder-Ohmen
ATTACH;FMTTYPE=image/jpeg:https://evjugila.de/wp-content/uploads/2025/08/F
 eierabendmarkt-N-O.png
CATEGORIES:Jugendtreff,Jugendtreff Laubach,Jugendtreff
 Mücke,Nachbarschaftsraum Unterer Vogelsberg,Projekte &amp; Events
LOCATION:Feierabendmarkt Nieder-Ohmen\, Untergasse 3\, Nieder-Ohmen\, Hesse
 n\, 35325\, Unterer Vogelsberg\, Deutschland
X-APPLE-STRUCTURED-LOCATION;VALUE=URI;X-ADDRESS=Untergasse 3\, Nieder-Ohmen
 \, Hessen\, 35325\, Unterer Vogelsberg\, Deutschland;X-APPLE-RADIUS=100;X-
 TITLE=Feierabendmarkt Nieder-Ohmen:geo:0,0
END:VEVENT
BEGIN:VTIMEZONE
TZID:Europe/Berlin
X-LIC-LOCATION:Europe/Berlin
BEGIN:DAYLIGHT
DTSTART:20250330T030000
TZOFFSETFROM:+0100
TZOFFSETTO:+0200
TZNAME:CEST
END:DAYLIGHT
END:VTIMEZONE
END:VCALENDAR