BEGIN:VCALENDAR
VERSION:2.0
PRODID:-//wp-events-plugin.com//7.2.3.1//EN
TZID:Europe/Berlin
X-WR-TIMEZONE:Europe/Berlin
BEGIN:VEVENT
UID:131@evjugila.de
DTSTART;TZID=Europe/Berlin:20250314T180000
DTEND;TZID=Europe/Berlin:20250314T200000
DTSTAMP:20250224T154059Z
URL:https://evjugila.de/events/wohnzimmertreff-kirche-anders-erleben/
SUMMARY:Wohnzimmertreff - Kirche anders erleben
DESCRIPTION:Herzliche Einladung zu unserem nächsten Jugendtreff! Dich erwa
 rten ein gemütlicher Spieleabend\, Snacks und Getränke sowie jede Menge 
 Spaß in guter Gemeinschaft.\n\nDatum: 14. März 2025\nUhrzeit: 18:00 - 20
 :00 Uhr\nOrt: Gemeindehaus Langsdorf\n\nBringe gerne deine Lieblingsspiele
  mit! Wir freuen uns auf dich – egal ob du alleine kommst oder mit Freun
 den.\n\n➡ Ab 11 Jahren bist du herzlich willkommen!\n\n
ATTACH;FMTTYPE=image/jpeg:https://evjugila.de/wp-content/uploads/2025/02/W
 ohnzimmertreff-2024-1080-x-1080-mm_20250224_162841_0000.png
CATEGORIES:Jugendtreff,Nachbarschaftsraum Arnsburger Land,Wohnzimmertreff
 Langsdorf
LOCATION:Gemeindehaus Langsdorf\, Brühgasse 14\, Lich-Langsdorf\, Hessen\,
  35423\, Arnsburger Land\, Deutschland
X-APPLE-STRUCTURED-LOCATION;VALUE=URI;X-ADDRESS=Brühgasse 14\, Lich-Langsd
 orf\, Hessen\, 35423\, Arnsburger Land\, Deutschland;X-APPLE-RADIUS=100;X-
 TITLE=Gemeindehaus Langsdorf:geo:0,0
END:VEVENT
BEGIN:VTIMEZONE
TZID:Europe/Berlin
X-LIC-LOCATION:Europe/Berlin
BEGIN:STANDARD
DTSTART:20241027T020000
TZOFFSETFROM:+0200
TZOFFSETTO:+0100
TZNAME:CET
END:STANDARD
END:VTIMEZONE
END:VCALENDAR