BEGIN:VCALENDAR
VERSION:2.0
PRODID:-//wp-events-plugin.com//7.2.3.1//EN
TZID:Europe/Berlin
X-WR-TIMEZONE:Europe/Berlin
BEGIN:VEVENT
UID:128@evjugila.de
DTSTART;TZID=Europe/Berlin;VALUE=DATE:20250607
DTEND;TZID=Europe/Berlin;VALUE=DATE:20250610
DTSTAMP:20250212T152305Z
URL:https://evjugila.de/events/ue-18-freizeit-berlin-ist-bunt-ein-wochenen
 de-voller-kultureller-und-spiritueller-vielfalt/
SUMMARY:Ü-18-Freizeit: Berlin ist bunt! - Ein Wochenende voller kulturelle
 r und spiritueller Vielfalt.
DESCRIPTION: Datum: 07. - 09.06.2025\nKosten: 199 € (inkl. Fahrt in Klein
 bussen Übernachtung &amp\; Frühstück\, 2 x Abendessen in netten Berline
 r Gaststätten\, Snacks und jede Menge Spaß)\nAlter: Alle\, die sich ange
 sprochen fühlen. Gerne auch Ü-18 (Ab 16 Jahre: Teilnahme ohne Erziehungs
 berechtigte möglich.)\n\nInfo:\nUlli Müller-Othman &amp\; Anne Fuhr\nE-M
 ail: ulli.mueller-othman@ekhn.de\nTel.: 06401/2259721\nMobil: 0176/9999127
 6\n\n&nbsp\;\n\nEin Wochenende voller kultureller und spiritueller Vielfal
 t.\nUns erwartet das Straßenfestival "Karneval der Kulturen" in Berlin-Kr
 euzberg mit vielen internationalen Bands und einem bunten Straßenumzug. A
 ußerdem gibt es die Möglichkeit in die "Nacht der offenen Kirchen" einzu
 tauchen\, um spirituelle Vielfalt mit allen Sinnen zu erleben und natürli
 ch die bunten Kieze Berlins zu besuchen.\n\nÜbernachten werden wir in dem
  Tagungshaus "Alte Feuerwache" in Kreuzberg/Mitte in Mehrbettzimmern.\n\nL
 ust auf BERLIN\, eine bunte Gemeinschaft und viel Spaß? ... dann nix wie 
 anmelden :-)\n\n&nbsp\;\n\n&nbsp\;\n﻿
ATTACH;FMTTYPE=image/jpeg:https://evjugila.de/wp-content/uploads/2025/02/1
 .jpg
CATEGORIES:Dekanatsweit,Ferienfreizeit,Nachbarschaftsraum Arnsburger
 Land,Nachbarschaftsraum Busecker Tal,Nachbarschaftsraum
 Horloffaue,Nachbarschaftsraum Laubacher Land,Nachbarschaftsraum Unterer
 Vogelsberg,Nachbarschaftsraum Unteres Lumdatal,Nachbarschaftsraum
 Wirberger Land,Rund um Grünberg
END:VEVENT
BEGIN:VTIMEZONE
TZID:Europe/Berlin
X-LIC-LOCATION:Europe/Berlin
BEGIN:DAYLIGHT
DTSTART:20250330T030000
TZOFFSETFROM:+0100
TZOFFSETTO:+0200
TZNAME:CEST
END:DAYLIGHT
END:VTIMEZONE
END:VCALENDAR