BEGIN:VCALENDAR
VERSION:2.0
PRODID:-//wp-events-plugin.com//7.2.3.1//EN
TZID:Europe/Berlin
X-WR-TIMEZONE:Europe/Berlin
BEGIN:VEVENT
UID:114@evjugila.de
DTSTART;TZID=Europe/Berlin:20250131T190000
DTEND;TZID=Europe/Berlin:20250131T210000
DTSTAMP:20250131T094013Z
URL:https://evjugila.de/events/treiser-teenie-club/
SUMMARY:Treiser Teenie-Club
DESCRIPTION:Jugendparty im Juz Treis – Sei dabei!\n\nDer Treiser Teenie-C
 lub lädt alle jungen Menschen zwischen 11 und 14 Jahren zur ultimativen J
 ugendparty am 31. Januar 2025 im Juz Treis ein.\n\nDatum: Freitag\, 31.01.
 2025\nUhrzeit: 19:00 – 21:00 Uhr\nOrt: Jugendzentrum Treis (Juz Treis)\n
 \nFreut euch auf mitreißende Musik von DJane Sanne\, die für die perfekt
 e Stimmung sorgt. Dazu gibt es erfrischende\, alkoholfreie Cocktails\, die
  den Abend abrunden.\n\nKomm vorbei\, bring deine Freunde mit und genieße
  einen tollen Abend voller Musik und guter Laune.\n\nDer Eintritt ist frei
 !\n\nWir freuen uns auf euch!\nEuer Treiser Teenie-Club
ATTACH;FMTTYPE=image/jpeg:https://evjugila.de/wp-content/uploads/2025/01/K
 opie-von-Treiser-Teenie-Club.png
CATEGORIES:Jugendtreff,Nachbarschaftsraum Unteres Lumdatal,Treiser
 Teenie-Club
LOCATION:Juz Treis\, Am Sportplatz\, Staufenberg-Treis\, Hessen\, 35460\, U
 nteres Lumdatal\, Deutschland
X-APPLE-STRUCTURED-LOCATION;VALUE=URI;X-ADDRESS=Am Sportplatz\, Staufenberg
 -Treis\, Hessen\, 35460\, Unteres Lumdatal\, Deutschland;X-APPLE-RADIUS=10
 0;X-TITLE=Juz Treis:geo:0,0
END:VEVENT
BEGIN:VTIMEZONE
TZID:Europe/Berlin
X-LIC-LOCATION:Europe/Berlin
BEGIN:STANDARD
DTSTART:20241027T020000
TZOFFSETFROM:+0200
TZOFFSETTO:+0100
TZNAME:CET
END:STANDARD
END:VTIMEZONE
END:VCALENDAR