BEGIN:VCALENDAR
VERSION:2.0
PRODID:-//wp-events-plugin.com//7.2.3.1//EN
TZID:Europe/Berlin
X-WR-TIMEZONE:Europe/Berlin
BEGIN:VEVENT
UID:172@evjugila.de
DTSTART;TZID=Europe/Berlin:20251031T190000
DTEND;TZID=Europe/Berlin:20251031T210000
DTSTAMP:20251013T105120Z
URL:https://evjugila.de/events/treiser-teenie-club-halloween-party/
SUMMARY:Treiser Teenie-Club - Halloween Party
DESCRIPTION:Für alle von 11 bis 14 Jahren\nAm Freitag\, den 31. Oktober 20
 25 wird’s im JUZ Treis gruselig – der Treiser Teenie-Club lädt zur gr
 oßen Halloween-Party ein!Von 19 bis 21 Uhr erwarten euch Musik\, Spaß\, 
 kleine Überraschungen und natürlich leckere alkoholfreie Cocktails für 
 nur 1 Euro.Kommt gern verkleidet – das schaurigste\, kreativste oder lus
 tigste Kostüm hat vielleicht eine kleine Überraschung verdient!\nOrt: Ju
 gendzentrum TreisZeit: Freitag\, 31.10.2025\, 19–21 UhrSpecial: Alkoholf
 reie Cocktails für 1 Euro\nVeranstaltet von der Evangelischen Kirchengeme
 inde Treis/Lumda.
ATTACH;FMTTYPE=image/jpeg:https://evjugila.de/wp-content/uploads/2025/10/T
 reiser-Teenie-Club.png
CATEGORIES:Jugendtreff,Nachbarschaftsraum Unteres Lumdatal,Treiser
 Teenie-Club
LOCATION:Juz Treis\, Am Sportplatz\, Treis\, Hessen\, 35460\, Nachbarschaft
 sraum Unteres Lumdatal\, Deutschland
X-APPLE-STRUCTURED-LOCATION;VALUE=URI;X-ADDRESS=Am Sportplatz\, Treis\, Hes
 sen\, 35460\, Nachbarschaftsraum Unteres Lumdatal\, Deutschland;X-APPLE-RA
 DIUS=100;X-TITLE=Juz Treis:geo:0,0
END:VEVENT
BEGIN:VTIMEZONE
TZID:Europe/Berlin
X-LIC-LOCATION:Europe/Berlin
BEGIN:STANDARD
DTSTART:20251026T020000
TZOFFSETFROM:+0200
TZOFFSETTO:+0100
TZNAME:CET
END:STANDARD
END:VTIMEZONE
END:VCALENDAR