BEGIN:VCALENDAR
VERSION:2.0
PRODID:-//wp-events-plugin.com//7.2.3.1//EN
TZID:Europe/Berlin
X-WR-TIMEZONE:Europe/Berlin
BEGIN:VEVENT
UID:129@evjugila.de
DTSTART;TZID=Europe/Berlin:20250321T180000
DTEND;TZID=Europe/Berlin:20250321T210000
DTSTAMP:20250213T194402Z
URL:https://evjugila.de/events/teamerinnen-stammtisch/
SUMMARY:TeamerInnen-Stammtisch
DESCRIPTION:Liebe Teamer und Teamerinnen\,\n\nwir laden euch herzlich zum n
 ächsten Teamertreffen ein! Wir freuen uns auf einen produktiven Austausch
  und gemeinsame Ideen.. Es ist eine großartige Gelegenheit\, um uns auszu
 tauschen\, aktuelle Themen zu besprechen und neue Ideen zu entwickeln.\n\n
 &nbsp\;\n\nSei dabei!\n\nWann: Am 21. März 2025\, um 18:00 Uhr\n\nWo: Gem
 eindehaus in Lich (Am Wall 24)\n\nWir hoffen auf zahlreiches Erscheinen un
 d spannende Diskussionen.\n\n&nbsp\;\n\nBitte gebt uns kurz Bescheid\, ob 
 ihr dabei sein könnt.\n\n&nbsp\;\n\nMit freundlichen Grüßen
ATTACH;FMTTYPE=image/jpeg:https://evjugila.de/wp-content/uploads/2025/02/T
 eamer-Stammtisch-Instagram-Beitrag.png
CATEGORIES:Dekanatsweit,Für TeamerInnen,Nachbarschaftsraum Arnsburger
 Land
LOCATION:Evangelisches Gemeindehaus Lich\, Wallstraße 24\, Lich\, Hessen\,
  35423\, Arnsburger Land\, Deutschland
X-APPLE-STRUCTURED-LOCATION;VALUE=URI;X-ADDRESS=Wallstraße 24\, Lich\, Hes
 sen\, 35423\, Arnsburger Land\, Deutschland;X-APPLE-RADIUS=100;X-TITLE=Eva
 ngelisches Gemeindehaus Lich:geo:0,0
END:VEVENT
BEGIN:VTIMEZONE
TZID:Europe/Berlin
X-LIC-LOCATION:Europe/Berlin
BEGIN:STANDARD
DTSTART:20241027T020000
TZOFFSETFROM:+0200
TZOFFSETTO:+0100
TZNAME:CET
END:STANDARD
END:VTIMEZONE
END:VCALENDAR