BEGIN:VCALENDAR
VERSION:2.0
PRODID:-//wp-events-plugin.com//7.2.3.1//EN
TZID:Europe/Berlin
X-WR-TIMEZONE:Europe/Berlin
BEGIN:VEVENT
UID:139@evjugila.de
DTSTART;TZID=Europe/Berlin:20250829T180000
DTEND;TZID=Europe/Berlin:20250829T210000
DTSTAMP:20250825T142139Z
URL:https://evjugila.de/events/teamer-stammtisch/
SUMMARY:Teamer-Stammtisch
DESCRIPTION:Datum: 29. August 2025Uhrzeit: 18:00 UhrOrt: Dekanatshaus\nDer 
 nächste Teamer-Stammtisch steht an – und wir laden dich herzlich ein!Eg
 al\, ob du schon Teamer*in bist oder es gerne werden möchtest: Komm vorbe
 i\, genieße einen entspannten Abend mit leckerem Essen\, guten Gespräche
 n und jeder Menge Spaß.\nDer Stammtisch ist eine tolle Gelegenheit\, neue
  Leute kennenzulernen\, sich auszutauschen und gemeinsam eine gute Zeit zu
  haben.\nAnmeldung bitte per Mail an: Jugend.Dekanat.Giessener-Land@ekhn.d
 e\nWir freuen uns auf dich!
ATTACH;FMTTYPE=image/jpeg:https://evjugila.de/wp-content/uploads/2025/08/W
 hatsApp-Bild-2025-08-25-um-14.16.48_99931c28.jpg
LOCATION:Haus der Kirche\, Flachsbachweg 3\, Grünberg\, Hessen\, 35305\, D
 ekanat Gießener Land\, Deutschland
X-APPLE-STRUCTURED-LOCATION;VALUE=URI;X-ADDRESS=Flachsbachweg 3\, Grünberg
 \, Hessen\, 35305\, Dekanat Gießener Land\, Deutschland;X-APPLE-RADIUS=10
 0;X-TITLE=Haus der Kirche:geo:0,0
END:VEVENT
BEGIN:VTIMEZONE
TZID:Europe/Berlin
X-LIC-LOCATION:Europe/Berlin
BEGIN:DAYLIGHT
DTSTART:20250330T030000
TZOFFSETFROM:+0100
TZOFFSETTO:+0200
TZNAME:CEST
END:DAYLIGHT
END:VTIMEZONE
END:VCALENDAR