BEGIN:VCALENDAR
VERSION:2.0
PRODID:-//wp-events-plugin.com//7.2.3.1//EN
TZID:Europe/Berlin
X-WR-TIMEZONE:Europe/Berlin
BEGIN:VEVENT
UID:181@evjugila.de
DTSTART;TZID=Europe/Berlin:20251220T170000
DTEND;TZID=Europe/Berlin:20251220T234500
DTSTAMP:20251205T134154Z
URL:https://evjugila.de/events/tavernenabend-rollenspielabend-fuer-jugendl
 iche-ab-12-jahren/
SUMMARY:Tavernenabend – Rollenspielabend für Jugendliche ab 12 Jahren
DESCRIPTION:Die Evangelische Jugend lädt zu einem stimmungsvollen Tavernen
 abend ein. Eingeladen sind sowohl Anfänger als auch fortgeschrittene Spie
 lerinnen und Spieler ab 12 Jahren. An diesem Abend können verschiedene Ro
 llenspiele wie Cthulhu\, Dungeons & Dragons und weitere Systeme ausprobier
 t werden.\n\nTermin: Samstag\, 20. Dezember 2025\nUhrzeit: 17:00 Uhr\nOrt:
  Ev. Gemeindehaus\, Schillerstraße 6\, 35325 Ober-Ohmen\n\nDer Abend biet
 et die Möglichkeit\, in die Welt der Pen-and-Paper-Rollenspiele einzutauc
 hen\, neue Leute kennenzulernen und gemeinsam spannende Abenteuer zu erleb
 en. Eine Anmeldung ist nicht erforderlich.\n\nWeitere Informationen finden
  Sie unter: evjugila.de
ATTACH;FMTTYPE=image/jpeg:https://evjugila.de/wp-content/uploads/2025/12/T
 avernenabend.jpg
END:VEVENT
BEGIN:VTIMEZONE
TZID:Europe/Berlin
X-LIC-LOCATION:Europe/Berlin
BEGIN:STANDARD
DTSTART:20251026T020000
TZOFFSETFROM:+0200
TZOFFSETTO:+0100
TZNAME:CET
END:STANDARD
END:VTIMEZONE
END:VCALENDAR