BEGIN:VCALENDAR
VERSION:2.0
PRODID:-//wp-events-plugin.com//7.2.3.1//EN
TZID:Europe/Berlin
X-WR-TIMEZONE:Europe/Berlin
BEGIN:VEVENT
UID:178@evjugila.de
DTSTART;TZID=Europe/Berlin;VALUE=DATE:20260713
DTEND;TZID=Europe/Berlin;VALUE=DATE:20260722
DTSTAMP:20251202T153937Z
URL:https://evjugila.de/events/sommerfreizeit-daenemark-2026/
SUMMARY:Sommerfreizeit - Dänemark 2026
DESCRIPTION:Sommerfreizeit Dänemark 2025\nWG-Feeling mit Action und Entspa
 nnungVom 13. bis 21. Juli 2025 geht es für Jugendliche zwischen 14 und 17
  Jahren auf eine unvergessliche Sommerfreizeit nach Dänemark.\nGemeinsam 
 erleben wir Sonne\, Strand und Gemeinschaft – mit einer guten Mischung a
 us Action\, Ausflügen und entspannten Momenten. Ob beim Kochen in der Gru
 ppe\, bei Spielen\, kreativen Workshops oder gemütlichen Abenden am Meer 
 – hier ist für jede und jeden etwas dabei.\n     \nKosten: 430 €Zeitr
 aum: 13.07. – 21.07.2025Alter: 14–17 Jahre\nDie Freizeit wird von eine
 m erfahrenen Team um Mischa Jung begleitet.\nAnmeldung:Scanne den QR-Code 
 auf dem Plakat oder folge dem Anmeldelink\, um dir deinen Platz zu sichern
 .\n\n
ATTACH;FMTTYPE=image/jpeg:https://evjugila.de/wp-content/uploads/2025/11/3
 .png
CATEGORIES:Dekanatsweit,Ferienfreizeit,Projekte &amp; Events
END:VEVENT
BEGIN:VTIMEZONE
TZID:Europe/Berlin
X-LIC-LOCATION:Europe/Berlin
BEGIN:DAYLIGHT
DTSTART:20260329T030000
TZOFFSETFROM:+0100
TZOFFSETTO:+0200
TZNAME:CEST
END:DAYLIGHT
END:VTIMEZONE
END:VCALENDAR