BEGIN:VCALENDAR
VERSION:2.0
PRODID:-//wp-events-plugin.com//7.2.3.1//EN
TZID:Europe/Berlin
X-WR-TIMEZONE:Europe/Berlin
BEGIN:VEVENT
UID:112@evjugila.de
DTSTART;TZID=Europe/Berlin:20250131T140000
DTEND;TZID=Europe/Berlin:20250131T173000
DTSTAMP:20250130T000231Z
URL:https://evjugila.de/events/schlittschuhlaufen-im-eisstadion-bad-nauhei
 m/
SUMMARY:Schlittschuhlaufen im Eisstadion Bad Nauheim
DESCRIPTION:Schlittschuhspaß in Bad Nauheim – Sei dabei!\n\nDie Evangeli
 sche Jugend im Dekanat Gießener Land\, Nachbarschaftsraum Busecker Tal\, 
 lädt dich herzlich zu einem gemeinsamen Ausflug ins Eisstadion Bad Nauhei
 m ein! Pack deine Schlittschuhe (falls vorhanden) ein und erlebe mit uns e
 inen sportlichen und spaßigen Nachmittag auf dem Eis.\n\nWann?\nDatum: 31
 .01.2025\nAbfahrt: 14:00 Uhr\nRückkehr: ca. 17:30 Uhr\n\nWo?\nTreffpunkt 
 zur Abfahrt: Evangelische Kirche Beuern.\n\nKosten:\n4\,50 € (inklusive 
 Eintritt und Schlittschuhverleih)\n\nVerantwortlich für die Veranstaltung
  ist Gemeindepädagogin Steffi Best-Failing.\n\nMelde dich schnell per Mai
 l unter steffi.best-failing@ekhn.de an und freue dich auf einen tollen Nac
 hmittag mit Freunden und viel Bewegung auf dem Eis!\n\nWir freuen uns auf 
 dich!
ATTACH;FMTTYPE=image/jpeg:https://evjugila.de/wp-content/uploads/2025/01/S
 chlittschuhlaufen-im-Eisstadion-1.png
CATEGORIES:Nachbarschaftsraum Busecker Tal,Projekte &amp; Events
LOCATION:Evangelische Kirche Beuern\, Borngasse 4\, Buseck\, Hessen\, 35418
  \, Busecker Tal\, Deutschland
X-APPLE-STRUCTURED-LOCATION;VALUE=URI;X-ADDRESS=Borngasse 4\, Buseck\, Hess
 en\, 35418 \, Busecker Tal\, Deutschland;X-APPLE-RADIUS=100;X-TITLE=Evange
 lische Kirche Beuern:geo:0,0
END:VEVENT
BEGIN:VTIMEZONE
TZID:Europe/Berlin
X-LIC-LOCATION:Europe/Berlin
BEGIN:STANDARD
DTSTART:20241027T020000
TZOFFSETFROM:+0200
TZOFFSETTO:+0100
TZNAME:CET
END:STANDARD
END:VTIMEZONE
END:VCALENDAR