BEGIN:VCALENDAR
VERSION:2.0
PRODID:-//wp-events-plugin.com//7.2.3.1//EN
TZID:Europe/Berlin
X-WR-TIMEZONE:Europe/Berlin
BEGIN:VEVENT
UID:136@evjugila.de
DTSTART;TZID=Europe/Berlin:20250822T183000
DTEND;TZID=Europe/Berlin:20250822T213000
DTSTAMP:20250708T130058Z
URL:https://evjugila.de/events/open-air-kino-konfi-event-auf-dem-wirberg/
SUMMARY:Open-Air-Kino – Konfi-Event auf dem Wirberg
DESCRIPTION:Am Freitag\, den 22. August 2025\, laden wir euch herzlich zu e
 inem besonderen Konfi-Abend unter freiem Himmel ein: Unser Open-Air-Kino m
 it kleinem Impuls vorweg findet von 18:30 bis 21:30 Uhr auf dem Wirberg be
 i Reiskirchen statt.\nGemeinsam starten wir mit einem kurzen geistlichen I
 mpuls\, bevor es dann mit einem spannenden Kinofilm weitergeht. Für das r
 ichtige Kino-Feeling sorgen Popcorn\, Hotdogs und Getränke – gegen eine
 n kleinen Preis.\nBitte bringt euch eine Picknickdecke mit\, damit ihr es 
 euch auf der Wiese gemütlich machen könnt.\nOrt:Wirberg\, Wirberger Str.
  2\, 35447 Reiskirchen\nAnmeldung:Einzeln oder als ganze Konfigruppe bis s
 pätestens 19.08.2025 per Mail an:Ulli.Mueller-Othman@ekhn.de\nWetterinfo:
 Sollte das Wetter nicht mitspielen\, findet die Veranstaltung in der Evang
 elischen Kirche Grünberg statt. Aktuelle Infos gibt es über unseren Inst
 agram-Kanal @evjugila oder auf der Homepage:www.evjugila.de\nVeranstalter:
 Evangelische Jugendvertretung im Dekanat Gießener Land
ATTACH;FMTTYPE=image/jpeg:https://evjugila.de/wp-content/uploads/2025/07/O
 pen-Air-Kino-Flyer.png
CATEGORIES:Dekanatsweit,Konfiarbeit,Nachbarschaftsraum Arnsburger
 Land,Nachbarschaftsraum Busecker Tal,Nachbarschaftsraum
 Horloffaue,Nachbarschaftsraum Laubacher Land,Nachbarschaftsraum Unterer
 Vogelsberg,Nachbarschaftsraum Unteres Lumdatal,Nachbarschaftsraum
 Wirberger Land,Projekte &amp; Events,Rund um Grünberg
END:VEVENT
BEGIN:VTIMEZONE
TZID:Europe/Berlin
X-LIC-LOCATION:Europe/Berlin
BEGIN:DAYLIGHT
DTSTART:20250330T030000
TZOFFSETFROM:+0100
TZOFFSETTO:+0200
TZNAME:CEST
END:DAYLIGHT
END:VTIMEZONE
END:VCALENDAR