BEGIN:VCALENDAR
VERSION:2.0
PRODID:-//wp-events-plugin.com//7.2.3.1//EN
TZID:Europe/Berlin
X-WR-TIMEZONE:Europe/Berlin
BEGIN:VEVENT
UID:108@evjugila.de
DTSTART;TZID=Europe/Berlin:20250220T190000
DTEND;TZID=Europe/Berlin:20250220T210000
DTSTAMP:20250212T211508Z
URL:https://evjugila.de/events/mit-allen-wassern-gewaschen-kigo-teamerinne
 nschulung/
SUMMARY:Mit allen Wassern gewaschen - KiGo-TeamerInnenschulung
DESCRIPTION:Mit allen Wassern gewaschen.\nMusikalischer Workshop.\n\nSingen
  und Spielen zum Thema "Wasser" in Kindergruppen und im KiGo. Dekanatskant
 orin Daniela Werner stellt uns Lieder zum Mitmachen vor. Außerdem gibt es
  Spiele und Kreatives - auch zum Mitnehmen.\n\nFormlose Anmeldung bis 15.0
 2.2025 an antje.koob@ekhn.de
ATTACH;FMTTYPE=image/jpeg:https://evjugila.de/wp-content/uploads/2025/01/M
 it-allen-wasserngewaschen-Insta-Post.png
CATEGORIES:Dekanatsweit,Für
 TeamerInnen,Kindergottesdienst,Nachbarschaftsraum Unteres
 Lumdatal,TeamerInnen-Fortbildung
LOCATION:Gemeindezentrum Staufenberg\, Schubertstraße 11\, Staufenberg\, H
 essen\, 35460\, Unteres Lumdatal\, Deutschland
X-APPLE-STRUCTURED-LOCATION;VALUE=URI;X-ADDRESS=Schubertstraße 11\, Staufe
 nberg\, Hessen\, 35460\, Unteres Lumdatal\, Deutschland;X-APPLE-RADIUS=100
 ;X-TITLE=Gemeindezentrum Staufenberg:geo:0,0
END:VEVENT
BEGIN:VTIMEZONE
TZID:Europe/Berlin
X-LIC-LOCATION:Europe/Berlin
BEGIN:STANDARD
DTSTART:20241027T020000
TZOFFSETFROM:+0200
TZOFFSETTO:+0100
TZNAME:CET
END:STANDARD
END:VTIMEZONE
END:VCALENDAR