BEGIN:VCALENDAR
VERSION:2.0
PRODID:-//wp-events-plugin.com//7.2.3.1//EN
TZID:Europe/Berlin
X-WR-TIMEZONE:Europe/Berlin
BEGIN:VEVENT
UID:140@evjugila.de
DTSTART;TZID=Europe/Berlin;VALUE=DATE:20251007
DTEND;TZID=Europe/Berlin;VALUE=DATE:20251010
DTSTAMP:20250828T131326Z
URL:https://evjugila.de/events/maedchenaktionstage-2025/
SUMMARY:Mädchenaktionstage 2025
DESCRIPTION:Mädchenaktionstage 2025 – Sei dabei!\nAuch in diesem Jahr fi
 nden wieder die beliebten Mädchenaktionstage (MAT) statt! Drei Tage volle
 r spannender Workshops\, kreativer Aktionen und einem abwechslungsreichen 
 Rahmenprogramm warten auf dich. Gemeinsam mit anderen Mädchen kannst du N
 eues ausprobieren\, dich austoben\, kreativ werden und jede Menge Spaß ha
 ben.\n\nWann und wo?\n\n 	\n– 9. Oktober 2025Anne-Frank-Schule\, Linden 
 (Schillerstraße 13A\, 35440 Linden)\n\n\nWer kann mitmachen?\nFür alle M
 ädchen ab Klasse 5\n\nKosten\n35 Euro (inkl. Programm &amp\; Verpflegung\
 , zzgl. kleines Taschengeld)\n\nProgramm-Highlights\nWähle aus vielen spa
 nnenden Workshops\, zum Beispiel:\n\n\n 	\nParkour – mach dein Leben zum
  Action-Film\n\n 	\nHipHop meets Breakdance – coole Moves &amp\; Choreog
 rafie\n\n 	\nWENDO – Stärke zeigen &amp\; Grenzen setzen\n\n 	\nGraffit
 i – Sprayen auf Leinwand &amp\; Wänden\n\n 	\nHolz-Workshop – Stühle
  kreativ upcyclen\n\n 	\nHobby Horsing – Steckenpferd basteln und losrei
 ten\n\n 	\nSkaten – dein Safe Space im Skatepark\n\n 	\nNähen – deine
  eigenen Designs entwerfen\n\n 	\nLego-Robotiks – Roboter bauen und prog
 rammieren\n\n 	\nPower Girls – Action\, Kreativität und Kart fahren\n\n
 \nDazu gibt es ein abwechslungsreiches Abendprogramm\, Übernachtung und v
 iel Zeit für Austausch und neue Freundschaften.\n\nAnmeldung\nBis 16. Sep
 tember 2025 bei der Jugendförderung Landkreis Gießen:E-Mail: jugendfoerd
 erung@lkgi.deTelefon: 0641/9390-9104\n\nDownload Anmeldebogen
ATTACH;FMTTYPE=image/jpeg:https://evjugila.de/wp-content/uploads/2025/08/G
 RLPWE.png
CATEGORIES:Dekanatsweit,Projekte &amp; Events
LOCATION:Anne-Frank-Schule\, Schillerstraße 13A\, Linden\, Hessen\, 35440\
 , Deutschland
X-APPLE-STRUCTURED-LOCATION;VALUE=URI;X-ADDRESS=Schillerstraße 13A\, Linde
 n\, Hessen\, 35440\, Deutschland;X-APPLE-RADIUS=100;X-TITLE=Anne-Frank-Sch
 ule:geo:0,0
END:VEVENT
BEGIN:VTIMEZONE
TZID:Europe/Berlin
X-LIC-LOCATION:Europe/Berlin
BEGIN:DAYLIGHT
DTSTART:20250330T030000
TZOFFSETFROM:+0100
TZOFFSETTO:+0200
TZNAME:CEST
END:DAYLIGHT
END:VTIMEZONE
END:VCALENDAR