BEGIN:VCALENDAR
VERSION:2.0
PRODID:-//wp-events-plugin.com//7.2.3.1//EN
TZID:Europe/Berlin
X-WR-TIMEZONE:Europe/Berlin
BEGIN:VEVENT
UID:135@evjugila.de
DTSTART;TZID=Europe/Berlin:20250926T190000
DTEND;TZID=Europe/Berlin:20250926T220000
DTSTAMP:20250708T125347Z
URL:https://evjugila.de/events/konfi-party-am-26-september-schwarzlichtpar
 ty-in-langsdorf/
SUMMARY:Konfi-Party am 26. September – Schwarzlichtparty in Langsdorf
DESCRIPTION:Am Freitag\, den 26. September 2025\, laden die Kirchengemeinde
 n Bettenhausen und Langsdorf alle Konfis zur großen Konfi-Party ein. Euch
  erwartet eine unvergessliche Schwarzlichtparty mit Musik\, Lichteffekten 
 und einer tollen Atmosphäre.\nKommt in weißer Kleidung\, damit ihr im Sc
 hwarzlicht besonders gut leuchtet!\nOrt:Gemeindehaus LangsdorfBraugasse 14
 35423 Lich-Langsdorf\nZeit:Freitag\, 26.09.2025Beginn: 19:00 UhrEnde: 22:0
 0 Uhr\nFür das leibliche Wohl ist gesorgt:Snacks und Getränke gibt es vo
 r Ort zu kleinen Preisen.\nWir freuen uns auf einen großartigen Abend mit
  euch!
ATTACH;FMTTYPE=image/jpeg:https://evjugila.de/wp-content/uploads/2025/07/W
 hatsApp-Bild-2025-07-08-um-13.13.23_1de1e051.jpg
CATEGORIES:Dekanatsweit,Konfiarbeit,Nachbarschaftsraum Arnsburger
 Land,Projekte &amp; Events
LOCATION:Gemeindehaus Langsdorf\, Brühgasse 14\, Lich-Langsdorf\, Hessen\,
  35423\, Arnsburger Land\, Deutschland
X-APPLE-STRUCTURED-LOCATION;VALUE=URI;X-ADDRESS=Brühgasse 14\, Lich-Langsd
 orf\, Hessen\, 35423\, Arnsburger Land\, Deutschland;X-APPLE-RADIUS=100;X-
 TITLE=Gemeindehaus Langsdorf:geo:0,0
END:VEVENT
BEGIN:VTIMEZONE
TZID:Europe/Berlin
X-LIC-LOCATION:Europe/Berlin
BEGIN:DAYLIGHT
DTSTART:20250330T030000
TZOFFSETFROM:+0100
TZOFFSETTO:+0200
TZNAME:CEST
END:DAYLIGHT
END:VTIMEZONE
END:VCALENDAR