BEGIN:VCALENDAR
VERSION:2.0
PRODID:-//wp-events-plugin.com//7.2.3.1//EN
TZID:Europe/Berlin
X-WR-TIMEZONE:Europe/Berlin
BEGIN:VEVENT
UID:182@evjugila.de
DTSTART;TZID=Europe/Berlin:20260205T180000
DTEND;TZID=Europe/Berlin:20260918T210000
DTSTAMP:20251205T135101Z
URL:https://evjugila.de/events/kindeswohlschulung-verpflichtend-fuer-ehren
 amtliche-mitartbeit-in-der-kinder-und-jugendarbeit/
SUMMARY:Kindeswohlschulung (Verpflichtend für ehrenamtliche Mitartbeit in 
 der Kinder- und Jugendarbeit)
DESCRIPTION:Die Evangelische Jugend im Dekanat Gießener Land bietet im Jah
 r 2026 wieder zentrale Präventionsschulungen zum Thema Kindeswohl an. Die
  dreistündige Veranstaltung richtet sich an haupt- und ehrenamtliche Mita
 rbeitende der Kinder- und Jugendarbeit. Die Teilnahme ist verpflichtend un
 d sollte alle fünf Jahre aufgefrischt werden.\n\nTermine:\n• 13. März 
 2026\, 18:00–21:00 Uhr\n• 17. September 2026\, 18:00–21:00 Uhr\n\nZu
 satztermin:\n• 5. Februar 2026\, 18:00–21:00 Uhr\n\nOrt:\nHaus der Kir
 che im Schwedendorf\nFlachsbachweg 3\n35305 Grünberg\n\nAnmeldung:\nclaud
 ia.doerfler@ekhn.de\n\ndenny.buhle@ekhn.de\n\nWeitere Informationen zur Pr
 äventionsarbeit finden Sie unter: www.ekhn.de/nulltoleranz
ATTACH;FMTTYPE=image/jpeg:https://evjugila.de/wp-content/uploads/2025/12/K
 indeswohlschulung-2026.pdf-Instagram-Post-45.png
CATEGORIES:Dekanatsweit,Für TeamerInnen,TeamerInnen-Fortbildung
LOCATION:Haus der Kirche\, Flachsbachweg 3\, Grünberg\, Hessen\, 35305\, D
 ekanat Gießener Land\, Deutschland
X-APPLE-STRUCTURED-LOCATION;VALUE=URI;X-ADDRESS=Flachsbachweg 3\, Grünberg
 \, Hessen\, 35305\, Dekanat Gießener Land\, Deutschland;X-APPLE-RADIUS=10
 0;X-TITLE=Haus der Kirche:geo:0,0
END:VEVENT
BEGIN:VTIMEZONE
TZID:Europe/Berlin
X-LIC-LOCATION:Europe/Berlin
BEGIN:STANDARD
DTSTART:20251026T020000
TZOFFSETFROM:+0200
TZOFFSETTO:+0100
TZNAME:CET
END:STANDARD
BEGIN:DAYLIGHT
DTSTART:20260329T030000
TZOFFSETFROM:+0100
TZOFFSETTO:+0200
TZNAME:CEST
END:DAYLIGHT
END:VTIMEZONE
END:VCALENDAR