BEGIN:VCALENDAR
VERSION:2.0
PRODID:-//wp-events-plugin.com//7.2.3.1//EN
TZID:Europe/Berlin
X-WR-TIMEZONE:Europe/Berlin
BEGIN:VEVENT
UID:133@evjugila.de
DTSTART;TZID=Europe/Berlin:20250510T100000
DTEND;TZID=Europe/Berlin:20250510T120000
DTSTAMP:20250505T133835Z
URL:https://evjugila.de/events/kinderkirche-in-ruttershausen/
SUMMARY:Kinderkirche in Ruttershausen
DESCRIPTION:Kinderkirche in Ruttershausen am 10.05.2024 von 10-12 Uhr. Alle
  Kinder sind herzlich eingeladen.\n\n
ATTACH;FMTTYPE=image/jpeg:https://evjugila.de/wp-content/uploads/2025/05/K
 inderkirche-Ruttershausen.png
CATEGORIES:Für und mit Kindern,Kindergottesdienst
LOCATION:ev. Gemeindehaus Ruttershausen\, Hellenbergstraße 5\, Lollar - Ru
 ttershausen\, 35457\, Deutschland
X-APPLE-STRUCTURED-LOCATION;VALUE=URI;X-ADDRESS=Hellenbergstraße 5\, Lolla
 r - Ruttershausen\, 35457\, Deutschland;X-APPLE-RADIUS=100;X-TITLE=ev. Gem
 eindehaus Ruttershausen:geo:0,0
END:VEVENT
BEGIN:VTIMEZONE
TZID:Europe/Berlin
X-LIC-LOCATION:Europe/Berlin
BEGIN:DAYLIGHT
DTSTART:20250330T030000
TZOFFSETFROM:+0100
TZOFFSETTO:+0200
TZNAME:CEST
END:DAYLIGHT
END:VTIMEZONE
END:VCALENDAR