BEGIN:VCALENDAR
VERSION:2.0
PRODID:-//wp-events-plugin.com//7.2.3.1//EN
TZID:Europe/Berlin
X-WR-TIMEZONE:Europe/Berlin
BEGIN:VEVENT
UID:111@evjugila.de
DTSTART;TZID=Europe/Berlin:20250201T100000
DTEND;TZID=Europe/Berlin:20250201T130000
DTSTAMP:20250123T151015Z
URL:https://evjugila.de/events/kinderkirche-in-lich/
SUMMARY:Kinderkirche in Lich
DESCRIPTION:Am 1. Februar 2025 von 10:00 bis 13:00 Uhr findet im evangelisc
 hen Gemeindehaus in Lich die Kinderkirche statt. Dieses Mal dreht sich all
 es um die Jahreslosung 2025: „Prüft alles und behaltet das Gute.“ (1.
  Thessalonicher 5\,21).\n\nGemeinsam wollen wir entdecken\, was es bedeute
 t\, das Gute zu erkennen und es in unserem Leben zu bewahren. Alle Kinder 
 sind herzlich eingeladen\, mit uns zu forschen und eine fröhliche Zeit zu
  verbringen. Kommt vorbei und seid dabei\, wenn wir die Jahreslosung 2025 
 zusammen entdecken!
ATTACH;FMTTYPE=image/jpeg:https://evjugila.de/wp-content/uploads/2025/01/K
 inderkirche-Lich-.png
CATEGORIES:Für und mit Kindern
LOCATION:ev. Gemeindehaus Lich\, Am Wall 24\, 35423 Lich\, Deutschland
X-APPLE-STRUCTURED-LOCATION;VALUE=URI;X-ADDRESS=Am Wall 24\, 35423 Lich\, D
 eutschland;X-APPLE-RADIUS=100;X-TITLE=ev. Gemeindehaus Lich:geo:0,0
END:VEVENT
BEGIN:VTIMEZONE
TZID:Europe/Berlin
X-LIC-LOCATION:Europe/Berlin
BEGIN:STANDARD
DTSTART:20241027T020000
TZOFFSETFROM:+0200
TZOFFSETTO:+0100
TZNAME:CET
END:STANDARD
END:VTIMEZONE
END:VCALENDAR