BEGIN:VCALENDAR
VERSION:2.0
PRODID:-//wp-events-plugin.com//7.2.3.1//EN
TZID:Europe/Berlin
X-WR-TIMEZONE:Europe/Berlin
BEGIN:VEVENT
UID:125@evjugila.de
DTSTART;TZID=Europe/Berlin:20251025T100000
DTEND;TZID=Europe/Berlin:20251025T120000
DTSTAMP:20250131T140403Z
URL:https://evjugila.de/events/kindergottesdienst-sellnrod-3/
SUMMARY:Kindergottesdienst Sellnrod
DESCRIPTION:
ATTACH;FMTTYPE=image/jpeg:https://evjugila.de/wp-content/uploads/2025/01/K
 inderkirche-Sellnrod.png
CATEGORIES:Für und mit Kindern,KiGo
 Fre/Sel/Alt,Kindergottesdienst,Nachbarschaftsraum Unterer Vogelsberg
END:VEVENT
BEGIN:VTIMEZONE
TZID:Europe/Berlin
X-LIC-LOCATION:Europe/Berlin
BEGIN:DAYLIGHT
DTSTART:20250330T030000
TZOFFSETFROM:+0100
TZOFFSETTO:+0200
TZNAME:CEST
END:DAYLIGHT
END:VTIMEZONE
END:VCALENDAR