BEGIN:VCALENDAR
VERSION:2.0
PRODID:-//wp-events-plugin.com//7.2.3.1//EN
TZID:Europe/Berlin
X-WR-TIMEZONE:Europe/Berlin
BEGIN:VEVENT
UID:130@evjugila.de
DTSTART;TZID=Europe/Berlin:20250215T100000
DTEND;TZID=Europe/Berlin:20250215T113000
DTSTAMP:20250212T231847Z
URL:https://evjugila.de/events/kindergottesdienst-busecker-tal/
SUMMARY:Kindergottesdienst Busecker Tal
DESCRIPTION:Herzliche Einladung zum Kindergottesdienst in der Evangelischen
  Kirche in Großen-Buseck!\nDatum: Samstag\, 15. Februar 2025Uhrzeit: 10:0
 0 – 11:30 UhrOrt: Evangelische Kirche\, Großen-Buseck\nFreut euch auf e
 inen fröhlichen Vormittag mit spannenden Geschichten\, mitreißenden Lied
 ern und vielen interaktiven Aktionen. Gemeinsam wollen wir spielen\, singe
 n und mehr über den Glauben erfahren.\nKommt vorbei und bringt gerne eure
  Freunde mit – wir freuen uns auf euch!\nEuer Team der Evangelischen Kir
 che Großen-Buseck
ATTACH;FMTTYPE=image/jpeg:https://evjugila.de/wp-content/uploads/2025/02/K
 inderkirche-Grossen-Buseck.png
CATEGORIES:Für und mit Kindern,Kindergottesdienst,Kinderkirche Busecker
 Tal,Nachbarschaftsraum Busecker Tal
LOCATION:Evangelische Kirche Großen-Buseck\, Kirchstraße 1\, Buseck\, Hes
 sen\, 35418\, Busecker Tal\, Deutschland
X-APPLE-STRUCTURED-LOCATION;VALUE=URI;X-ADDRESS=Kirchstraße 1\, Buseck\, H
 essen\, 35418\, Busecker Tal\, Deutschland;X-APPLE-RADIUS=100;X-TITLE=Evan
 gelische Kirche Großen-Buseck:geo:0,0
END:VEVENT
BEGIN:VTIMEZONE
TZID:Europe/Berlin
X-LIC-LOCATION:Europe/Berlin
BEGIN:STANDARD
DTSTART:20241027T020000
TZOFFSETFROM:+0200
TZOFFSETTO:+0100
TZNAME:CET
END:STANDARD
END:VTIMEZONE
END:VCALENDAR