BEGIN:VCALENDAR
VERSION:2.0
PRODID:-//wp-events-plugin.com//7.2.3.1//EN
TZID:Europe/Berlin
X-WR-TIMEZONE:Europe/Berlin
BEGIN:VEVENT
UID:126@evjugila.de
DTSTART;TZID=Europe/Berlin:20251115T100000
DTEND;TZID=Europe/Berlin:20251115T120000
DTSTAMP:20250131T140610Z
URL:https://evjugila.de/events/kindergottesdienst-altenhain-3/
SUMMARY:Kindergottesdienst Altenhain
DESCRIPTION:
ATTACH;FMTTYPE=image/jpeg:https://evjugila.de/wp-content/uploads/2025/01/K
 inderkirche-Altenhain.png
CATEGORIES:Für und mit Kindern,KiGo
 Fre/Sel/Alt,Kindergottesdienst,Nachbarschaftsraum Unterer Vogelsberg
END:VEVENT
BEGIN:VTIMEZONE
TZID:Europe/Berlin
X-LIC-LOCATION:Europe/Berlin
BEGIN:STANDARD
DTSTART:20251026T020000
TZOFFSETFROM:+0200
TZOFFSETTO:+0100
TZNAME:CET
END:STANDARD
END:VTIMEZONE
END:VCALENDAR