BEGIN:VCALENDAR
VERSION:2.0
PRODID:-//wp-events-plugin.com//7.2.3.1//EN
TZID:Europe/Berlin
X-WR-TIMEZONE:Europe/Berlin
BEGIN:VEVENT
UID:127@evjugila.de
DTSTART;TZID=Europe/Berlin;VALUE=DATE:20251013
DTEND;TZID=Europe/Berlin;VALUE=DATE:20251020
DTSTAMP:20250207T163415Z
URL:https://evjugila.de/events/juleica-grundkurs/
SUMMARY:Juleica Grundkurs
DESCRIPTION:Juleica-Schulung 2025 – Gemeinsam durchstarten!\n\nBist du Ju
 gendgruppenleiter:in und möchtest in einer inspirierenden Gemeinschaft de
 n kompletten Juleica-Grundkurs absolvieren? Dann haben wir genau das Richt
 ige für dich: eine Woche voller Gemeinschaft\, Party und Spiritualität i
 m idyllischen Feriendorf Flensunger Hof!\n\n\n\nWas erwartet dich?\n\n 	Fu
 ndierter Juleica-Grundkurs: Gemeinsam mit anderen Jugendlichen und angelei
 tet von Gemeindepädagog:innen und Referent:innen aus verschiedenen Dekana
 ten der EKHN erwirbst du praxisnah deine Juleica.\n 	Gemeinschaft und Spa
 ß: Erlebe intensive Teambildung\, spannende Workshops und abwechslungsrei
 che Freizeitaktivitäten.\n 	Spirituelle Impulse: Lass dich von geistliche
 n Angeboten und Impulsen bereichern – für deinen persönlichen Weg und 
 den Weg im Ehrenamt.\n 	Urlaubsfeeling pur: Genieße eine Woche im Flensun
 ger Hof\, wo gemeinschaftliches Miteinander und Lernen an erster Stelle st
 ehen.\n\n\n\n\nVeranstaltungsdetails\n\n 	Datum: 13. bis 19. Oktober 2025\
 n 	Preis: 250 €\nDas Beste: Sowohl das Dekanat Gießener Land als auch d
 eine Kirchengemeinde können jeweils ein Drittel des Preises bezuschussen 
 – so zahlst du letztlich nur ein Drittel der Kosten!\n\n\n\n\nOrganisato
 risches\nDie Veranstaltung wird gemeinsam organisiert von der Evangelische
 n Jugend in den Dekanaten:\n\n 	Gießener Land\n 	Wetterau\n 	An der Lahn\
 n 	Büdinger Land\n 	Hochtaunus\n 	An der Dill\n 	Dreieich-Rodgau\n 	Nassa
 uer Land\n 	Westerwald\n\n\n\n\nMelde dich jetzt an und sichere dir deinen
  Platz!\n\nLink zur Anmeldung\n\nNutze diese einmalige Gelegenheit\, um fa
 chlich zu wachsen\, neue Kontakte zu knüpfen und in einer unvergesslichen
  Woche deine Leidenschaft für Jugendarbeit zu vertiefen.\n\nWir freuen un
 s auf deine Teilnahme und eine großartige gemeinsame Zeit!
ATTACH;FMTTYPE=image/jpeg:https://evjugila.de/wp-content/uploads/2025/02/J
 uleica-Grundkurs-Banner-Quadratisch.png
CATEGORIES:Dekanatsweit,Ferienfreizeit,Für TeamerInnen,Nachbarschaftsraum
 Arnsburger Land,Nachbarschaftsraum Busecker Tal,Nachbarschaftsraum
 Horloffaue,Nachbarschaftsraum Laubacher Land,Nachbarschaftsraum Unterer
 Vogelsberg,Nachbarschaftsraum Unteres Lumdatal,Nachbarschaftsraum
 Wirberger Land,Rund um Grünberg,TeamerInnen-Fortbildung
LOCATION:Feriendorf Flensunger Hof\, Am Flensunger Hof 10-11  \, Mücke-Fle
 nsungen\, Hessen\, 35325\, Rund um Mücke\, Deutschland
X-APPLE-STRUCTURED-LOCATION;VALUE=URI;X-ADDRESS=Am Flensunger Hof 10-11  \,
  Mücke-Flensungen\, Hessen\, 35325\, Rund um Mücke\, Deutschland;X-APPLE
 -RADIUS=100;X-TITLE=Feriendorf Flensunger Hof:geo:0,0
END:VEVENT
BEGIN:VTIMEZONE
TZID:Europe/Berlin
X-LIC-LOCATION:Europe/Berlin
BEGIN:DAYLIGHT
DTSTART:20250330T030000
TZOFFSETFROM:+0100
TZOFFSETTO:+0200
TZNAME:CEST
END:DAYLIGHT
END:VTIMEZONE
END:VCALENDAR