BEGIN:VCALENDAR
VERSION:2.0
PRODID:-//wp-events-plugin.com//7.2.3.1//EN
TZID:Europe/Berlin
X-WR-TIMEZONE:Europe/Berlin
BEGIN:VEVENT
UID:96@evjugila.de
DTSTART;TZID=Europe/Berlin:20250210T190000
DTEND;TZID=Europe/Berlin:20250211T210000
DTSTAMP:20250113T115952Z
URL:https://evjugila.de/events/jugendtreff-lollar-2-2025-02-10/
SUMMARY:Jugendtreff Lollar
DESCRIPTION:
ATTACH;FMTTYPE=image/jpeg:https://evjugila.de/wp-content/uploads/2025/01/E
 vent-Jugend-Vorlage-Instagram-Post.png
CATEGORIES:Jugendtreff,Jugendtreff Lollar,Nachbarschaftsraum Unteres
 Lumdatal
LOCATION:Evangelische Kirche Lollar\, Daubringer Straße 55\, Lollar\, Hess
 en\, 35457\, Unteres Lumdatal\, Deutschland
X-APPLE-STRUCTURED-LOCATION;VALUE=URI;X-ADDRESS=Daubringer Straße 55\, Lol
 lar\, Hessen\, 35457\, Unteres Lumdatal\, Deutschland;X-APPLE-RADIUS=100;X
 -TITLE=Evangelische Kirche Lollar:geo:0,0
END:VEVENT
BEGIN:VTIMEZONE
TZID:Europe/Berlin
X-LIC-LOCATION:Europe/Berlin
BEGIN:STANDARD
DTSTART:20241027T020000
TZOFFSETFROM:+0200
TZOFFSETTO:+0100
TZNAME:CET
END:STANDARD
END:VTIMEZONE
END:VCALENDAR