BEGIN:VCALENDAR
VERSION:2.0
PRODID:-//wp-events-plugin.com//7.2.3.1//EN
TZID:Europe/Berlin
X-WR-TIMEZONE:Europe/Berlin
BEGIN:VEVENT
UID:36@evjugila.de
DTSTART;TZID=Europe/Berlin:20250123T150000
DTEND;TZID=Europe/Berlin:20250721T170000
DTSTAMP:20250110T210940Z
URL:https://evjugila.de/event-recurring/jugendtreff-in-der-jugendscheune-o
 ber-ohmen/
SUMMARY:Jugendtreff in der Jugendscheune Ober-Ohmen
DESCRIPTION:
ATTACH;FMTTYPE=image/jpeg:https://evjugila.de/wp-content/uploads/2025/01/J
 ugendtreff-Muecke-1.png
CATEGORIES:Jugendtreff,Jugendtreff Mücke,Nachbarschaftsraum Unterer
 Vogelsberg
LOCATION:Jugendscheune Ober-Ohmen\, Schillerstraße 6\, Mücke\, Hessen\, 3
 5325\, Rund um Mücke\, Deutschland
X-APPLE-STRUCTURED-LOCATION;VALUE=URI;X-ADDRESS=Schillerstraße 6\, Mücke\
 , Hessen\, 35325\, Rund um Mücke\, Deutschland;X-APPLE-RADIUS=100;X-TITLE
 =Jugendscheune Ober-Ohmen:geo:0,0
END:VEVENT
BEGIN:VTIMEZONE
TZID:Europe/Berlin
X-LIC-LOCATION:Europe/Berlin
BEGIN:STANDARD
DTSTART:20241027T020000
TZOFFSETFROM:+0200
TZOFFSETTO:+0100
TZNAME:CET
END:STANDARD
BEGIN:DAYLIGHT
DTSTART:20250330T030000
TZOFFSETFROM:+0100
TZOFFSETTO:+0200
TZNAME:CEST
END:DAYLIGHT
END:VTIMEZONE
END:VCALENDAR