BEGIN:VCALENDAR
VERSION:2.0
PRODID:-//wp-events-plugin.com//7.2.3.1//EN
TZID:Europe/Berlin
X-WR-TIMEZONE:Europe/Berlin
BEGIN:VEVENT
UID:222@evjugila.de
DTSTART;TZID=Europe/Berlin:20260118T180000
DTEND;TZID=Europe/Berlin:20260118T193000
DTSTAMP:20260113T062031Z
URL:https://evjugila.de/events/jugendgottesdienst-zur-jahreslosung-2026-in
 -lich/
SUMMARY:Jugendgottesdienst zur Jahreslosung 2026 in Lich
DESCRIPTION:Jugendgottesdienst zur Jahreslosung 2026\n„Gott spricht: Sieh
 e\, ich mache alles neu.“ (Offenbarung 21\,5)\nDie Jahreslosung 2026 lä
 dt dazu ein\, über Neuanfänge nachzudenken:Was darf hinter uns liegen? W
 as kann wachsen? Und wo erleben wir\, dass Veränderung möglich ist?\nIm 
 Jugendgottesdienst nehmen wir uns Zeit\, dieser Zusage nachzugehen – mit
  Musik\, Impulsen und Momenten zum Innehalten. Der Gottesdienst richtet si
 ch an Jugendliche und junge Menschen und bietet Raum für persönliche Ged
 anken\, Gemeinschaft und Hoffnung.\nTermin: Sonntag\, 18. Januar 2026Uhrze
 it: 18:00 UhrOrt: Gemeindehaus Lich\, Am Wall 24\nHerzliche Einladung\, vo
 rbeizukommen und gemeinsam ins neue Jahr zu starten.
ATTACH;FMTTYPE=image/jpeg:https://evjugila.de/wp-content/uploads/2026/01/J
 ugendgottesdienst-Arnsburger-Land.jpeg
CATEGORIES:Jugendgottesdienst,Konfiarbeit,Nachbarschaftsraum Arnsburger
 Land
LOCATION:Evangelisches Gemeindehaus Lich\, Am Wall 24\, Lich\, Hessen\, 354
 23\, Arnsburger Land\, Deutschland
X-APPLE-STRUCTURED-LOCATION;VALUE=URI;X-ADDRESS=Am Wall 24\, Lich\, Hessen\
 , 35423\, Arnsburger Land\, Deutschland;X-APPLE-RADIUS=100;X-TITLE=Evangel
 isches Gemeindehaus Lich:geo:0,0
END:VEVENT
BEGIN:VTIMEZONE
TZID:Europe/Berlin
X-LIC-LOCATION:Europe/Berlin
BEGIN:STANDARD
DTSTART:20251026T020000
TZOFFSETFROM:+0200
TZOFFSETTO:+0100
TZNAME:CET
END:STANDARD
END:VTIMEZONE
END:VCALENDAR