BEGIN:VCALENDAR
VERSION:2.0
PRODID:-//wp-events-plugin.com//7.2.3.1//EN
TZID:Europe/Berlin
X-WR-TIMEZONE:Europe/Berlin
BEGIN:VEVENT
UID:91@evjugila.de
DTSTART;TZID=Europe/Berlin:20250316T180000
DTEND;TZID=Europe/Berlin:20250316T200000
DTSTAMP:20250213T193513Z
URL:https://evjugila.de/events/jugendgottesdienst-pruefet-alles-und-behalt
 et-das-gute/
SUMMARY:Jugendgottesdienst - "Prüfet alles und behaltet das Gute"
DESCRIPTION:
ATTACH;FMTTYPE=image/jpeg:https://evjugila.de/wp-content/uploads/2025/01/j
 uGo-Hungen-16.03.25.png
CATEGORIES:Dekanatsweit,Jugendgottesdienst,Konfiarbeit,Nachbarschaftsraum
 Horloffaue
END:VEVENT
BEGIN:VTIMEZONE
TZID:Europe/Berlin
X-LIC-LOCATION:Europe/Berlin
BEGIN:STANDARD
DTSTART:20241027T020000
TZOFFSETFROM:+0200
TZOFFSETTO:+0100
TZNAME:CET
END:STANDARD
END:VTIMEZONE
END:VCALENDAR