BEGIN:VCALENDAR
VERSION:2.0
PRODID:-//wp-events-plugin.com//7.2.3.1//EN
TZID:Europe/Berlin
X-WR-TIMEZONE:Europe/Berlin
BEGIN:VEVENT
UID:141@evjugila.de
DTSTART;TZID=Europe/Berlin:20250921T180000
DTEND;TZID=Europe/Berlin:20250921T180000
DTSTAMP:20250828T132003Z
URL:https://evjugila.de/events/hit-from-heaven-gottesdienst/
SUMMARY:Hit from Heaven Gottesdienst
DESCRIPTION:Hit-from-Heaven – Gottesdienst mit Rea Garveys „Halo“\nAm
  Sonntag\, den 21. September 2025\, laden wir herzlich zum Hit-from-Heaven
 -Gottesdienst ins Evangelische Gemeindehaus Hungen (Liebfrauenberg) ein. B
 eginn ist um 18.00 Uhr.\nIm Mittelpunkt steht in diesem Jahr der Song „H
 alo“ von Rea Garvey\, der uns thematisch durch den Gottesdienst begleite
 t. Wie in jedem Jahr wollen wir gemeinsam Musik hören\, über die Botscha
 ft nachdenken und sie in einen christlichen Zusammenhang stellen.\nDer Got
 tesdienst richtet sich an Jung und Alt – alle Generationen sind willkomm
 en. Unterstützt wird das Projekt von Hit Radio FFH.\nWann: Sonntag\, 21.0
 9.2025\, 18.00 UhrWo: Evangelisches Gemeindehaus Hungen\nKommt vorbei\, fe
 iert mit uns und lasst euch inspirieren!
ATTACH;FMTTYPE=image/jpeg:https://evjugila.de/wp-content/uploads/2025/08/W
 hatsApp-Bild-2025-08-26-um-20.58.48_65831090.jpg
CATEGORIES:Dekanatsweit,Jugendgottesdienst,Konfiarbeit,Nachbarschaftsraum
 Arnsburger Land,Projekte &amp; Events
LOCATION:Gemeindehaus Hungen\, Liebfrauenberg 27\, Hungen\, Hessen\, 35410\
 , Deutschland
X-APPLE-STRUCTURED-LOCATION;VALUE=URI;X-ADDRESS=Liebfrauenberg 27\, Hungen\
 , Hessen\, 35410\, Deutschland;X-APPLE-RADIUS=100;X-TITLE=Gemeindehaus Hun
 gen:geo:0,0
END:VEVENT
BEGIN:VTIMEZONE
TZID:Europe/Berlin
X-LIC-LOCATION:Europe/Berlin
BEGIN:DAYLIGHT
DTSTART:20250330T030000
TZOFFSETFROM:+0100
TZOFFSETTO:+0200
TZNAME:CEST
END:DAYLIGHT
END:VTIMEZONE
END:VCALENDAR