BEGIN:VCALENDAR
VERSION:2.0
PRODID:-//wp-events-plugin.com//7.2.3.1//EN
TZID:Europe/Berlin
X-WR-TIMEZONE:Europe/Berlin
BEGIN:VEVENT
UID:113@evjugila.de
DTSTART;TZID=Europe/Berlin;VALUE=DATE:20250430
DTEND;TZID=Europe/Berlin;VALUE=DATE:20250505
DTSTAMP:20250124T202438Z
URL:https://evjugila.de/events/gruppenfahrt-zum-deutschen-evangelischen-ki
 rchentag/
SUMMARY:Gruppenfahrt zum Deutschen Evangelischen Kirchentag
DESCRIPTION:Gruppenfahrt zum Deutschen Evangelischen Kirchentag 2025\n\nDas
  Evangelische Dekanat Gießener Land lädt herzlich zur gemeinsamen Fahrt 
 zum Deutschen Evangelischen Kirchentag 2025 nach Hannover ein. Unter dem M
 otto „mutig – stark – beherzt“ bietet der Kirchentag ein vielfält
 iges Programm mit inspirierenden Veranstaltungen\, spannenden Begegnungen 
 und bereichernden Impulsen für Jung und Alt.\n\nTermin: 30. April – 4. 
 Mai 2025\nOrt: Hannover\n\nWas erwartet dich?\n\n 	Gemeinschaft erleben un
 d neue Menschen kennenlernen\n 	Gottesdienste\, Workshops und Diskussionen
 \n 	Musik\, Kultur und gelebter Glaube in einer einzigartigen Atmosphäre\
 n\nAnmeldung und weitere Informationen:\nAnmeldungen sind ab sofort mögli
 ch bei:\n\nClaudia Dörfler\n06404 - 63801\nclaudia.doerfler@ekhn.de)\n\nM
 arlies Schmied\n06401-2259711\ndekanat.giessener-land@ekhn.de\n\nHinweis: 
 Die Plätze sind begrenzt – schnell sein lohnt sich!
ATTACH;FMTTYPE=image/jpeg:https://evjugila.de/wp-content/uploads/2025/01/2
 .png
CATEGORIES:Dekanatsweit,Ferienfreizeit,Für
 TeamerInnen,Konfiarbeit,Nachbarschaftsraum Arnsburger
 Land,Nachbarschaftsraum Busecker Tal,Nachbarschaftsraum
 Horloffaue,Nachbarschaftsraum Laubacher Land,Nachbarschaftsraum Unterer
 Vogelsberg,Nachbarschaftsraum Unteres Lumdatal,Nachbarschaftsraum
 Wirberger Land,Projekte &amp; Events,Rund um Grünberg
END:VEVENT
BEGIN:VTIMEZONE
TZID:Europe/Berlin
X-LIC-LOCATION:Europe/Berlin
BEGIN:DAYLIGHT
DTSTART:20250330T030000
TZOFFSETFROM:+0100
TZOFFSETTO:+0200
TZNAME:CEST
END:DAYLIGHT
END:VTIMEZONE
END:VCALENDAR