BEGIN:VCALENDAR
VERSION:2.0
PRODID:-//wp-events-plugin.com//7.2.3.1//EN
TZID:Europe/Berlin
X-WR-TIMEZONE:Europe/Berlin
BEGIN:VEVENT
UID:173@evjugila.de
DTSTART;TZID=Europe/Berlin:20251106T190000
DTEND;TZID=Europe/Berlin:20251106T210000
DTSTAMP:20251013T112706Z
URL:https://evjugila.de/events/einladung-zur-weihnachtswerkstatt/
SUMMARY:Einladung zur Weihnachtswerkstatt
DESCRIPTION:Donnerstag\, 6. November 2025\, 19:00 UhrEvangelisches Dekanat 
 Gießener Land\, Flachsbachweg 3\, 35305 Grünberg\nLiebe Mitarbeitende au
 s der Arbeit mit Kindern und Jugendlichen!Wir laden herzlich ein zur Weihn
 achtswerkstatt mit verschiedenen Kreativ-Workshops und Ideen für die Adve
 ntszeit.\nGemeinsam wollen wir basteln\, ausprobieren und Impulse sammeln\
 , wie die Advents- und Weihnachtszeit in Kinder- und Jugendgruppen kreativ
  gestaltet werden kann.\nDatum: Donnerstag\, 6. November 2025Uhrzeit: 19:0
 0 UhrOrt: Evangelisches Dekanat Gießener Land\, Flachsbachweg 3\, 35305 G
 rünbergAnmeldung: per Mail bis zum 31. Oktober 2025\nKontakt:Antje Koob (
 antje.koob@ekhn.de)Claudia Dörfler (claudia.doerfler@ekhn.de)
ATTACH;FMTTYPE=image/jpeg:https://evjugila.de/wp-content/uploads/2025/10/W
 eihnachtswerkstatt-6.11.25.jpg
CATEGORIES:Dekanatsweit,Für TeamerInnen,Für und mit
 Kindern,Nachbarschaftsraum Arnsburger Land,Nachbarschaftsraum Busecker
 Tal,Nachbarschaftsraum Horloffaue,Nachbarschaftsraum Laubacher
 Land,Nachbarschaftsraum Unterer Vogelsberg,Nachbarschaftsraum Unteres
 Lumdatal,Nachbarschaftsraum Wirberger Land,Projekte &amp; Events,Rund um
 Grünberg,TeamerInnen-Fortbildung
LOCATION:Haus der Kirche\, Flachsbachweg 3\, Grünberg\, Hessen\, 35305\, D
 ekanat Gießener Land\, Deutschland
X-APPLE-STRUCTURED-LOCATION;VALUE=URI;X-ADDRESS=Flachsbachweg 3\, Grünberg
 \, Hessen\, 35305\, Dekanat Gießener Land\, Deutschland;X-APPLE-RADIUS=10
 0;X-TITLE=Haus der Kirche:geo:0,0
END:VEVENT
BEGIN:VTIMEZONE
TZID:Europe/Berlin
X-LIC-LOCATION:Europe/Berlin
BEGIN:STANDARD
DTSTART:20251026T020000
TZOFFSETFROM:+0200
TZOFFSETTO:+0100
TZNAME:CET
END:STANDARD
END:VTIMEZONE
END:VCALENDAR