BEGIN:VCALENDAR
VERSION:2.0
PRODID:-//wp-events-plugin.com//7.2.3.1//EN
TZID:Europe/Berlin
X-WR-TIMEZONE:Europe/Berlin
BEGIN:VEVENT
UID:138@evjugila.de
DTSTART;TZID=Europe/Berlin:20250831T103000
DTEND;TZID=Europe/Berlin:20250831T153000
DTSTAMP:20250813T131458Z
URL:https://evjugila.de/events/27-dekanatskinderkirchentag-woher-der-wind-
 weht/
SUMMARY:27. DekanatsKinderKirchenTag – „Woher der Wind weht“
DESCRIPTION:27. DekanatsKinderKirchenTag – „Woher der Wind weht“\nAm 
 Sonntag\, den 31. August 2025 lädt das Evangelische Dekanat Gießener Lan
 d alle Kinder ab 6 Jahren herzlich zum 27. DekanatsKinderKirchenTag nach W
 ohnbach ein. Unter dem Motto „Woher der Wind weht“ erwartet die Teilne
 hmenden ein fröhlicher Tag voller Spiele\, kreativer Bastelangebote und s
 pannender Aktionen.\nDer Tag beginnt um 10:30 Uhr mit einem Gottesdienst i
 n der Kirche und endet gegen 15:30 Uhr. Für das leibliche Wohl ist gesorg
 t: Im Mit-Mach-Beitrag von 5\,00 € sind ein Getränk\, ein Würstchen mi
 t Brötchen\, Kartoffeln mit Quark\, ein Stück Kuchen und zwei Kugeln Eis
  enthalten.\nAnmeldung:Bis zum 25. August 2025 bei allen Pfarrämtern im D
 ekanat.\nOrt:Wohnbach\, Evangelische Kirche und umliegendes Gelände\nKomm
 t vorbei\, bringt Freunde mit und erlebt gemeinsam einen unvergesslichen T
 ag!
ATTACH;FMTTYPE=image/jpeg:https://evjugila.de/wp-content/uploads/2025/08/C
 hatGPT-Image-13.-Aug.-2025-14_40_35.png
CATEGORIES:Abenteuerland,Dekanatsweit,Für und mit Kindern,KiGo
 Fre/Sel/Alt,Kindergottesdienst,Kinderkirche Busecker
 Tal,Nachbarschaftsraum Arnsburger Land
END:VEVENT
BEGIN:VTIMEZONE
TZID:Europe/Berlin
X-LIC-LOCATION:Europe/Berlin
BEGIN:DAYLIGHT
DTSTART:20250330T030000
TZOFFSETFROM:+0100
TZOFFSETTO:+0200
TZNAME:CEST
END:DAYLIGHT
END:VTIMEZONE
END:VCALENDAR